BEGIN:VCALENDAR
VERSION:2.0
PRODID:nkc_event TYPO3 Extension
METHOD:PUBLISH
BEGIN:VEVENT
UID:f4caa9db55e0f41d78633ac2a9bb4b23
LOCATION:Paul-Gerhardt-Kirche
SUMMARY:Kirchengemeinderat
DESCRIPTION:Die Sitzungen des Kirchengemeinderats sind in der Regel öffentlich. Kommen Sie gerne vorbei!
CLASS:PUBLIC
DTSTART:20260910T173000Z
DTEND:20260910T200000Z
DTSTAMP:20260425T112822Z
END:VEVENT

END:VCALENDAR