BEGIN:VCALENDAR
VERSION:2.0
PRODID:nkc_event TYPO3 Extension
METHOD:PUBLISH
BEGIN:VEVENT
UID:884ead17ce6d2f71274a1f90f076a6d6
LOCATION:Kirche Rickling
SUMMARY:Pfingsten - Gottesdienst mit Sprachenwunder
DESCRIPTION:
CLASS:PUBLIC
DTSTART:20260524T083000Z
DTEND:20260524T093000Z
DTSTAMP:20260423T161327Z
END:VEVENT

END:VCALENDAR