BEGIN:VCALENDAR
VERSION:2.0
PRODID:nkc_event TYPO3 Extension
METHOD:PUBLISH
BEGIN:VEVENT
UID:2b6d5157ac7cf4c4ffa1e59d4bf2e49f
LOCATION:Andachtsraum im Städtischen Krankenhaus
SUMMARY:Gottesdienst
DESCRIPTION:
CLASS:PUBLIC
DTSTART:20260531T080000Z
DTEND:20260531T090000Z
DTSTAMP:20260423T040317Z
END:VEVENT

END:VCALENDAR