BEGIN:VCALENDAR
VERSION:2.0
PRODID:nkc_event TYPO3 Extension
METHOD:PUBLISH
BEGIN:VEVENT
UID:56ec43396c475006bd9968f73038d69e
LOCATION:Friedenskirche Flensburg Weiche
SUMMARY:Konfirmation/Pn. Schulze-Kösterke
DESCRIPTION:
CLASS:PUBLIC
DTSTART:20260426T090000Z
DTEND:20260426T100000Z
DTSTAMP:20260424T140124Z
END:VEVENT

END:VCALENDAR