BEGIN:VCALENDAR
VERSION:2.0
PRODID:nkc_event TYPO3 Extension
METHOD:PUBLISH
BEGIN:VEVENT
UID:26060871299145b34f4fca0cc9a556ff
LOCATION:Kirche St. Johannis zu Hamburg-Eppendorf
SUMMARY:Missa
DESCRIPTION:
CLASS:PUBLIC
DTSTART:20260531T160000Z
DTEND:20260531T170000Z
DTSTAMP:20260422T120931Z
END:VEVENT

END:VCALENDAR