BEGIN:VCALENDAR
VERSION:2.0
PRODID:nkc_event TYPO3 Extension
METHOD:PUBLISH
BEGIN:VEVENT
UID:d3e1e6729bcbd226a206e9e5d0e5eb7b
LOCATION:Kirche St. Johannis zu Hamburg-Eppendorf
SUMMARY:Abendgottesdienst mit Friedensgebet
DESCRIPTION:
CLASS:PUBLIC
DTSTART:20260520T170000Z
DTEND:20260520T180000Z
DTSTAMP:20260422T120834Z
END:VEVENT

END:VCALENDAR