BEGIN:VCALENDAR
VERSION:2.0
PRODID:nkc_event TYPO3 Extension
METHOD:PUBLISH
BEGIN:VEVENT
UID:0c373deb38074f48290b9451510b529a
LOCATION:Propst-Torp-Haus (Gemeindehaus) Glücksburg
SUMMARY:DQUOTEEinfach mal raus":" Treffen\, reden\, lachenDQUOTE - Herzliche Einladung!
DESCRIPTION:
CLASS:PUBLIC
DTSTART:20260602T130000Z
DTEND:20260602T143000Z
DTSTAMP:20260426T021535Z
END:VEVENT

END:VCALENDAR