BEGIN:VCALENDAR
VERSION:2.0
PRODID:nkc_event TYPO3 Extension
METHOD:PUBLISH
BEGIN:VEVENT
UID:9b82ccd8cb5eda19705accc8d28cb7b0
LOCATION:Feuerwehrhaus Willingrade
SUMMARY:Gottesdienst im Feuerwehrhaus Willingrade
DESCRIPTION:
CLASS:PUBLIC
DTSTART:20260620T130000Z
DTEND:20260620T140000Z
DTSTAMP:20260423T162135Z
END:VEVENT

END:VCALENDAR