BEGIN:VCALENDAR
VERSION:2.0
PRODID:nkc_event TYPO3 Extension
METHOD:PUBLISH
BEGIN:VEVENT
UID:e9b5a16a90fa52129d933ad580f2c444
LOCATION:St. Marien Sörup
SUMMARY:Choralblasen vom Kirchturm und DQUOTEMehrDQUOTE
DESCRIPTION:Jeden Sonnabend um 15 Uhr treffen wir uns am Kirchturm\, hören einen Choral\, Texte und DQUOTEMehrDQUOTE. Bei schlechtem Wetter nutzen wir den Kirchenraum. Herzliche Willkommen! Christiane Klang
CLASS:PUBLIC
DTSTART:20260523T130000Z
DTEND:20260523T140000Z
DTSTAMP:20260424T122915Z
END:VEVENT

END:VCALENDAR