BEGIN:VCALENDAR
VERSION:2.0
PRODID:nkc_event TYPO3 Extension
METHOD:PUBLISH
BEGIN:VEVENT
UID:c4c8d2516610c5f550e8239f7c54fe32
LOCATION:St. Claren
SUMMARY:Open-Air Gottesdienst zu Christi Himmelfahrt im Pastoratsgarten\, Pastorin Haustein
DESCRIPTION:
CLASS:PUBLIC
DTSTART:20260514T090000Z
DTEND:20260514T100000Z
DTSTAMP:20260422T123257Z
END:VEVENT

END:VCALENDAR