BEGIN:VCALENDAR
VERSION:2.0
PRODID:nkc_event TYPO3 Extension
METHOD:PUBLISH
BEGIN:VEVENT
UID:d49859e8d9478ef6482d83b388ef6bc3
LOCATION:Pädagogisch-Theologisches Institut der Nordkirche - Standort Hamburg
SUMMARY:Religionspädagogische Weiterbildung für fachfremd Unterrichtende an Berufsbildenden Schulen
DESCRIPTION:Als Teilnehmende werden Sie befähigt\, existenzielle Fragen der jungen Erwachsenen nach Liebe\, Wahrheit\, Leistung und verantwortliches Handeln aufzunehmen und deren religiöse Dimension zu erschließen. Religiöse Traditionen und lebendige Glaubensüberzeugungen bieten dabei Zugänge zur Selbst- und Weltdeutung.Die Schwerpunkte der Ausbildung sind":"\nReligionspädagogische und -didaktische Grundlagen\nGrundkenntnisse verschiedener Religionen\nReligiöse Sozialisation und interreligiöser Dialog\nReflexion der eigenen Haltung gegenüber Religion\nPlanung von religionspädagogischen Lernarrangements\nDurchführung und Reflexion eigener religionspädagogischer Bildungsangebote\nDer Kurs wendet sich an Lehrkräfte aus den Bundesländern Mecklenburg-Vorpommern\, Schleswig-Holstein und Hamburg.Wer den Kurs abgeschlossen hat und Kirchenmitglied ist\, kann eine kirchliche Lehrerlaubnis für fachfremd Unterrichtende (Vokation) nach § 4 Vokationsverordnung der Nordkirche erhalten. Mit dieser dürfen Sie Religionsunterricht (M-V\, S-H) bzw. Religionsgespräche (S-H\, HH) durchführen. Die Facultas für das Fach Ev. Religion wird mit diesem Kurs nicht erworben.Was sonst noch wichtig ist":"In Hamburg und S-H können Sie mit der Fortbildung Ihrer Fortbildungsverpflichtung nachkommen. In M-V werden Ihre Reisekosten übernommen.
CLASS:PUBLIC
DTSTART:20260828T140000Z
DTEND:20270615T160000Z
DTSTAMP:20260420T001134Z
END:VEVENT

END:VCALENDAR