BEGIN:VCALENDAR
VERSION:2.0
PRODID:nkc_event TYPO3 Extension
METHOD:PUBLISH
BEGIN:VEVENT
UID:813eccc681f75e5aaa78a05a71c067e3
LOCATION:St. Nikolai Kirche
SUMMARY:Sankt Nikolai Flensburg":" Turmführung mit Dörte Jurascheck
DESCRIPTION:
CLASS:PUBLIC
DTSTART:20260516T100000Z
DTEND:20260516T110000Z
DTSTAMP:20260422T123303Z
END:VEVENT

END:VCALENDAR