BEGIN:VCALENDAR
VERSION:2.0
PRODID:nkc_event TYPO3 Extension
METHOD:PUBLISH
BEGIN:VEVENT
UID:7a0fedc4d498bf8fc7c9fd96b924357d
LOCATION:Ev.-Luth. St. Ansgarkirche in Kiel
SUMMARY:Entdeckerkirche - Mit Kopf\, Herz und Knete
DESCRIPTION:spielen - erzählen - basteln - malen - in Gemeinschaft Spaß haben - singen - nach Gott fragen
CLASS:PUBLIC
DTSTART:20260521T140000Z
DTEND:20260521T150000Z
DTSTAMP:20260423T100740Z
END:VEVENT

END:VCALENDAR