BEGIN:VCALENDAR
VERSION:2.0
PRODID:nkc_event TYPO3 Extension
METHOD:PUBLISH
BEGIN:VEVENT
UID:2f4d95e8bb6a72b2b2c81e3729c2cb89
LOCATION:Altes Pastorat
SUMMARY:Sankt Nikolai Flensburg":" Jugendtreff im Gemeindehaus
DESCRIPTION:
CLASS:PUBLIC
DTSTART:20260507T163000Z
DTEND:20260507T173000Z
DTSTAMP:20260422T123258Z
END:VEVENT

END:VCALENDAR