BEGIN:VCALENDAR
VERSION:2.0
PRODID:nkc_event TYPO3 Extension
METHOD:PUBLISH
BEGIN:VEVENT
UID:4a9e0cb337a367b2a90e9d424c76672b
LOCATION:St. Nicolai Quern
SUMMARY:Worte & Musik - Andacht
DESCRIPTION:Jeden Mittwoch um 18 Uhr gibt es unsere Mittwochsfreiluftandacht\, eine Andacht vor der Querner St. Nikolai Kirche mit Musik und geistlichen Impulsen zur Tageslosung.Herzlich willkommen!Susanne Nielsen
CLASS:PUBLIC
DTSTART:20260513T160000Z
DTEND:20260513T170000Z
DTSTAMP:20260424T104848Z
END:VEVENT

END:VCALENDAR