BEGIN:VCALENDAR
VERSION:2.0
PRODID:nkc_event TYPO3 Extension
METHOD:PUBLISH
BEGIN:VEVENT
UID:cc9e16d04327d1610963d08e4a02adfd
LOCATION:Kirche der Stille
SUMMARY:Klangraum am Abend mit Wort und Musik
DESCRIPTION:
CLASS:PUBLIC
DTSTART:20260628T170000Z
DTEND:20260628T180000Z
DTSTAMP:20260421T193521Z
END:VEVENT

END:VCALENDAR