BEGIN:VCALENDAR
VERSION:2.0
PRODID:nkc_event TYPO3 Extension
METHOD:PUBLISH
BEGIN:VEVENT
UID:5e5b103a58fc43b111d3cfdb5a95d171
LOCATION:Ev.-Luth. Bugenhagen-Kirchengemeinde Neumünster
SUMMARY:Band
DESCRIPTION:First Choice verbindet bekannte Songs aus Pop\, Rock und verwandten Stilrichtungen mit einem feinen Gespür für Atmosphäre und musikalische Qualität.Entstanden ist die Band 2013 auf Wunsch eines Konfirmanden. Heute begleitet sie regelmäßig größere Gottesdienste und besondere Veranstaltungen der Kirche mit moderner Musik. Über die Jahre hat sich die Band auch außerhalb der Kirche ein musikalisches Standbein aufgebaut und tritt bei Stadtfesten\, Kulturveranstaltungen und anderen Events in der Region auf. Gleichzeitig bleibt die Verbindung zur Gemeinde ein wichtiger Teil der Bandgeschichte.Du interessierst dich für Musik und spielst selbst vielleicht ein Instrument? Dann schau einfach mal bei den Proben unserer Band vorbei und lern` die Band kennen. 
CLASS:PUBLIC
DTSTART:20260528T154500Z
DTEND:20260528T171500Z
DTSTAMP:20260423T124247Z
END:VEVENT

END:VCALENDAR