BEGIN:VCALENDAR
VERSION:2.0
PRODID:nkc_event TYPO3 Extension
METHOD:PUBLISH
BEGIN:VEVENT
UID:4b782a9ba428fbc1e3532ec5c48353ed
LOCATION:Maria-Magdalenen Kirche
SUMMARY:Musikalischer Sonntag
DESCRIPTION:Nun schon zum dritten Mal kommt das Duo saitenweisen\, das sind Anett Heine (Gesang) und Ulrich Hawelka (Gitarre)\, zu uns in die Kirche nach Klein Borstel. Sie verlassen dafür – sogar gern - ihre Heimatstadt Dresden und genießen die große Partnerstadt Hamburg und vor allem den Hafen. Und über Hamburg\, Waterkant und die große See\, darüber wollen Sie singen\, denn":" Jetzt werden die Anker gelichtet und es geht auf große Fahrt! Mit dabei sind Lieder u.a. von Freddy Quinn\, Hans Albers\, Lolita\, Nana Mouskouri und Heinz Rühmann! Und da es Shantys nicht als Solostimmen gibt\, sind Sie herzlich eingeladen zum Mitsingen! Nebenher gibt es die eine oder andere wissenswerte Anekdote und natürlich darf auch ein bisschen Seemannsgarn nicht fehlen... Ahoi! Das Konzert findet statt am Sonntag\, den 22. Februar 2026 um 18 Uhr\, im Vorraum der Kirche Maria Magdalenen Klein Borstel\, Stübeheide 175\, 22337 Hamburg. Achtung":" Es gibt nur 40 Plätze! Der Eintritt ist frei. 
CLASS:PUBLIC
DTSTART:20260222T170000Z
DTEND:20260222T180000Z
DTSTAMP:20260423T085358Z
END:VEVENT

END:VCALENDAR