BEGIN:VCALENDAR
VERSION:2.0
PRODID:nkc_event TYPO3 Extension
METHOD:PUBLISH
BEGIN:VEVENT
UID:4c926997ad1db42ef1c982c5fe29d05c
LOCATION:Feuerwehrhaus Willingrade
SUMMARY:Gottesdienst im Feuerwehrhaus Willingrade
DESCRIPTION:
CLASS:PUBLIC
DTSTART:20261031T140000Z
DTEND:20261031T150000Z
DTSTAMP:20260423T162132Z
END:VEVENT

END:VCALENDAR