BEGIN:VCALENDAR
VERSION:2.0
PRODID:nkc_event TYPO3 Extension
METHOD:PUBLISH
BEGIN:VEVENT
UID:13af7de8d4a17dbe758ffcc9fec7c02b
LOCATION:Jugendarbeit
SUMMARY:Nordcamp
DESCRIPTION:Der 14.7. ist Abbautag und nur für die Teamer*innen.
CLASS:PUBLIC
DTSTART:20260709T120000Z
DTEND:20260714T120600Z
DTSTAMP:20260419T162518Z
END:VEVENT

END:VCALENDAR