BEGIN:VCALENDAR
VERSION:2.0
PRODID:nkc_event TYPO3 Extension
METHOD:PUBLISH
BEGIN:VEVENT
UID:b42f52e05bbb6b167e8c9049e4a37735
LOCATION:Gemeindehaus
SUMMARY:Jugendtreff im Borbyer Gemeindehaus
DESCRIPTION:Der Jugendtreff für Jugendliche ab 13 Jahren findet zweiwöchentlich (außer in den Ferien) im Gemeindehaus Borby (Borbyer Pastorenweg 1) von 17-20 Uhr statt. Gemeinsam planen wir\, welche Aktionen wir bei den nächsten Treffen zusammen vorhaben. Wir freuen uns auf Dich\, komm vorbei! 
CLASS:PUBLIC
DTSTART:20260423T150000Z
DTEND:20260423T160000Z
DTSTAMP:20260422T134158Z
END:VEVENT

END:VCALENDAR