BEGIN:VCALENDAR
VERSION:2.0
PRODID:nkc_event TYPO3 Extension
METHOD:PUBLISH
BEGIN:VEVENT
UID:4fad407d754210786b67cfd7c398208d
LOCATION:St. Nikolai Billwerder
SUMMARY:1.Sonntag nach Trinitatis
DESCRIPTION:
CLASS:PUBLIC
DTSTART:20260607T160000Z
DTEND:20260607T170000Z
DTSTAMP:20260422T104607Z
END:VEVENT

END:VCALENDAR