BEGIN:VCALENDAR
VERSION:2.0
PRODID:nkc_event TYPO3 Extension
METHOD:PUBLISH
BEGIN:VEVENT
UID:1c104c0c96371ed73519a7d8f21ff58d
LOCATION:Gemeindehaus II
SUMMARY:ABENTEUERLAND
DESCRIPTION:
CLASS:PUBLIC
DTSTART:20260814T133000Z
DTEND:20260814T143000Z
DTSTAMP:20260425T130622Z
END:VEVENT

END:VCALENDAR