BEGIN:VCALENDAR
VERSION:2.0
PRODID:nkc_event TYPO3 Extension
METHOD:PUBLISH
BEGIN:VEVENT
UID:d79e2e0de25b66065853936478364401
LOCATION:St.-Nicolai-Kirche Mölln
SUMMARY:Benefizkonzert zugunsten der Scherer-Bünting-Flentrop-Orgel
DESCRIPTION:„Du meine Seele singe“Mit Werken von J. Crüger\, H. L. Haßler\, H. Scheidemann und J. S. Bach
CLASS:PUBLIC
DTSTART:20260809T160000Z
DTEND:20260809T170000Z
DTSTAMP:20260423T104008Z
END:VEVENT

END:VCALENDAR