BEGIN:VCALENDAR
VERSION:2.0
PRODID:nkc_event TYPO3 Extension
METHOD:PUBLISH
BEGIN:VEVENT
UID:234be1133277e7e7f07fc9fc5301d9db
LOCATION:Altes Pastorat
SUMMARY:Sankt Nikolai Flensburg":" Jugendtreff im Gemeindehaus
DESCRIPTION:
CLASS:PUBLIC
DTSTART:20260430T163000Z
DTEND:20260430T173000Z
DTSTAMP:20260422T123314Z
END:VEVENT

END:VCALENDAR