BEGIN:VCALENDAR
VERSION:2.0
PRODID:nkc_event TYPO3 Extension
METHOD:PUBLISH
BEGIN:VEVENT
UID:5fc5ce3d3e62c3fd4de0eb51701d64c2
LOCATION:St. Michaelis
SUMMARY:Gottesdienst mit Abendmahl\, Pastorin Schleupner
DESCRIPTION:
CLASS:PUBLIC
DTSTART:20251005T073000Z
DTEND:20251005T083000Z
DTSTAMP:20260422T091046Z
END:VEVENT

END:VCALENDAR