BEGIN:VCALENDAR
VERSION:2.0
PRODID:nkc_event TYPO3 Extension
METHOD:PUBLISH
BEGIN:VEVENT
UID:8a238f7de6aa3fb726e40da0ade06d0b
LOCATION:Gemeindehaus II
SUMMARY:ABENTEUERLAND
DESCRIPTION:
CLASS:PUBLIC
DTSTART:20260515T133000Z
DTEND:20260515T143000Z
DTSTAMP:20260425T125503Z
END:VEVENT

END:VCALENDAR