BEGIN:VCALENDAR
VERSION:2.0
PRODID:nkc_event TYPO3 Extension
METHOD:PUBLISH
BEGIN:VEVENT
UID:c78f7592698407d473c4d0a9ff041c9b
LOCATION:Thomaskirche
SUMMARY:Gottesdienst mit anschließender Gemeindeversammlung
DESCRIPTION:
CLASS:PUBLIC
DTSTART:20260531T130000Z
DTEND:20260531T140000Z
DTSTAMP:20260422T140543Z
END:VEVENT

END:VCALENDAR