BEGIN:VCALENDAR
VERSION:2.0
PRODID:nkc_event TYPO3 Extension
METHOD:PUBLISH
BEGIN:VEVENT
UID:90c7e9dad452c60bf335ecdff6b952ef
LOCATION:Marienkirche Havetoft
SUMMARY:Gottesdienst Havetoft mit Abendmahl
DESCRIPTION:
CLASS:PUBLIC
DTSTART:20260517T073000Z
DTEND:20260517T084500Z
DTSTAMP:20260425T125625Z
END:VEVENT

END:VCALENDAR