BEGIN:VCALENDAR
VERSION:2.0
PRODID:nkc_event TYPO3 Extension
METHOD:PUBLISH
BEGIN:VEVENT
UID:bda56b9a4c528f63d2db956fd96ce86e
LOCATION:St. Laurentius Kirche Sterup
SUMMARY:Festgottesdienst zur Konfirmation
DESCRIPTION:
CLASS:PUBLIC
DTSTART:20260509T090000Z
DTEND:20260509T100000Z
DTSTAMP:20260424T104841Z
END:VEVENT

END:VCALENDAR