BEGIN:VCALENDAR
VERSION:2.0
PRODID:nkc_event TYPO3 Extension
METHOD:PUBLISH
BEGIN:VEVENT
UID:870eca96c70269f60aeb61803baa13c9
LOCATION:St. Marien
SUMMARY:Sankt Nikolai Flensburg":" Konfirmation in St. Marien
DESCRIPTION:
CLASS:PUBLIC
DTSTART:20260510T080000Z
DTEND:20260510T090000Z
DTSTAMP:20260422T123314Z
END:VEVENT

END:VCALENDAR