BEGIN:VCALENDAR
VERSION:2.0
PRODID:nkc_event TYPO3 Extension
METHOD:PUBLISH
BEGIN:VEVENT
UID:728c22b3263f9258eed5818c74b6d246
LOCATION:Hauptkirche St. Jacobi
SUMMARY:Himmlische Musik zum Kaffee mit Liebe für den guten Zweck
DESCRIPTION:Gerhard Löffler - Arp-Schnitger-OrgelLouis Vierne\, 1870–1937Finaleaus":" 1. Sinfonie d-Moll op. 14Johann Sebastian Bach\, 1685–1750Toccata\, Adagio und Fuge C-Dur BWV 564
CLASS:PUBLIC
DTSTART:20260704T100000Z
DTEND:20260704T110000Z
DTSTAMP:20260420T144222Z
END:VEVENT

END:VCALENDAR