BEGIN:VCALENDAR
VERSION:2.0
PRODID:nkc_event TYPO3 Extension
METHOD:PUBLISH
BEGIN:VEVENT
UID:327afb1507567bf5c22cac0c3c6ab86b
LOCATION:Familien-Bildungsstätte Bad Oldesloe
SUMMARY:Bibel-Kreis
DESCRIPTION:Aus dem Blickwinkel verschiedener Fragestellungen sehen wir uns die Bibel an und finden heraus was sie heutzutage zu uns zu sagen hat. Wir freuen uns auf kritische Fragen und regen Austausch.Bitte eine eigene Bibel mitbringen. (Beschränkte Anzahl an Bibeln beim Vergessen vorhanden)Bildrechte":" KG Oldesloe
CLASS:PUBLIC
DTSTART:20260506T170000Z
DTEND:20260506T190000Z
DTSTAMP:20260421T132445Z
END:VEVENT

END:VCALENDAR