BEGIN:VCALENDAR
VERSION:2.0
PRODID:nkc_event TYPO3 Extension
METHOD:PUBLISH
BEGIN:VEVENT
UID:9876da7d3d3faaae638db2ed08a0bdb5
LOCATION:Emmaus-Kirche
SUMMARY:Gottesdienst
DESCRIPTION:Herzliche Einladung zum Gottesdienst mit Pastorin Rebecca Assif.Im Anschluss kann man sich an einem kleinen Imbiss stärken. Danach findet unsere Gemeindeversammlung statt.
CLASS:PUBLIC
DTSTART:20260705T090000Z
DTEND:20260705T100000Z
DTSTAMP:20260422T140340Z
END:VEVENT

END:VCALENDAR