BEGIN:VCALENDAR
VERSION:2.0
PRODID:nkc_event TYPO3 Extension
METHOD:PUBLISH
BEGIN:VEVENT
UID:36e8e537168d7d55e45507bafe1b2f8a
LOCATION:Friedenskirche
SUMMARY:Gottesdienst mit Taufe
DESCRIPTION:
CLASS:PUBLIC
DTSTART:20260524T080000Z
DTEND:20260524T090000Z
DTSTAMP:20260421T193524Z
END:VEVENT

END:VCALENDAR