BEGIN:VCALENDAR
VERSION:2.0
PRODID:nkc_event TYPO3 Extension
METHOD:PUBLISH
BEGIN:VEVENT
UID:24941298e261fd873a1f73f55e111c64
LOCATION:Paul-Gerhardt-Kirche
SUMMARY:Gottesdienst in gerechter Sprache
DESCRIPTION:Ist Gott jenseits aller Geschlechter?zusammen – autark?mit Abendmahl
CLASS:PUBLIC
DTSTART:20260510T080000Z
DTEND:20260510T090000Z
DTSTAMP:20260425T060052Z
END:VEVENT

END:VCALENDAR