BEGIN:VCALENDAR
VERSION:2.0
PRODID:nkc_event TYPO3 Extension
METHOD:PUBLISH
BEGIN:VEVENT
UID:a105f776e3d9b34f261627c6be8cf73c
LOCATION:Gemeindehaus II
SUMMARY:ABENTEUERLAND
DESCRIPTION:
CLASS:PUBLIC
DTSTART:20260424T133000Z
DTEND:20260424T143000Z
DTSTAMP:20260424T034839Z
END:VEVENT

END:VCALENDAR