BEGIN:VCALENDAR
VERSION:2.0
PRODID:nkc_event TYPO3 Extension
METHOD:PUBLISH
BEGIN:VEVENT
UID:c6b54ba0639ebaca6583fe18c8dd0c5a
LOCATION:Kirche Wankendorf
SUMMARY:Gottesdienst mit Abendmahl und Pastorin Ulrike Jenett
DESCRIPTION:
CLASS:PUBLIC
DTSTART:20260503T080000Z
DTEND:20260503T090000Z
DTSTAMP:20260425T112030Z
END:VEVENT

END:VCALENDAR