BEGIN:VCALENDAR
VERSION:2.0
PRODID:nkc_event TYPO3 Extension
METHOD:PUBLISH
BEGIN:VEVENT
UID:73937b5b4e6615f2e4b08ad0e44cebf8
LOCATION:Pastorat Aegidienstr. 75
SUMMARY:Gemeinsam Bibel lesen und verstehen
DESCRIPTION:Philippus zum Kämmerer aus Äthiopien":" DQUOTEVerstehst du auch\, was du da liest?DQUOTEEr aber sprach":" DQUOTEWie kann ich\, wenn mich nicht jemand anleitet?DQUOTE (Apostelgeschichte 8\, 30 f)3. Kurs":" DQUOTETexte des JohannesevangeliumsDQUOTE5 Abende 
CLASS:PUBLIC
DTSTART:20260311T170000Z
DTEND:20260311T180000Z
DTSTAMP:20260420T091408Z
END:VEVENT

END:VCALENDAR