BEGIN:VCALENDAR
VERSION:2.0
PRODID:nkc_event TYPO3 Extension
METHOD:PUBLISH
BEGIN:VEVENT
UID:1ab56825aad2720c5eba89bcbcf1d7ae
LOCATION:ONLINE
SUMMARY:Bible Art Journaling
DESCRIPTION:Onlinemit Svenja MoltzenInfo\; Link und Anmeldung bei Svenja unter 0173-7040832oder auch im Frauenwerk unter frauenwerk@kirche-slfl.de
CLASS:PUBLIC
DTSTART:20260424T160000Z
DTEND:20260424T170000Z
DTSTAMP:20260422T120836Z
END:VEVENT

END:VCALENDAR