BEGIN:VCALENDAR
VERSION:2.0
PRODID:nkc_event TYPO3 Extension
METHOD:PUBLISH
BEGIN:VEVENT
UID:4d816bfe8dbfc3b86a0d2e6f3b0f5fbb
LOCATION:Christkirche
SUMMARY:J. Seb. Bach":" Weihnachtsoratorium
DESCRIPTION:Weihnachtsoratorium von Johann Sebastian BachAndrea Stadel\, SopranJulie Caffier\, MezzosopranCollin Schöning\, TenorJan Hendrik Jensch\, BassStadtkantorei RendsburgBarockorchester mit historischen InstrumentenLeitung Volker LinhardtKarten zu 25\,-€/20\,-€/12\,-€(SchülerInnen und StudentInnen erm.)an der Abendkasse\, im Vvk zzgl. Vvk-Gebühr bei Rendsburg-Information (04331-6634566) sowie online unterwww.eventfrog.de/Stadtkantorei
CLASS:PUBLIC
DTSTART:20251221T160000Z
DTEND:20251221T170000Z
DTSTAMP:20260419T134907Z
END:VEVENT

END:VCALENDAR