BEGIN:VCALENDAR
VERSION:2.0
PRODID:nkc_event TYPO3 Extension
METHOD:PUBLISH
BEGIN:VEVENT
UID:a63ca6bd9e5c5c2193ad06bb66469fef
LOCATION:https://live.agnms.de
SUMMARY:Gottesdienst (vor Ort und online)
DESCRIPTION:Unser Gottesdienst ist ein Raum\, Gott und einander zu begegnen.Darum treffen wir uns jeden Sonntag in der Kirche oder auch online unter live.agnms.de.Ab 10 Uhr ist Zeit zum gemütlichen Ankommen\, dazu hat unser Bistro in der Lounge geöffnet und bietet kleine frühstückstaugliche Leckereien und Kaffeespezialitäten. Der Gottesdienst beginnt um 10":"30 Uhr.
CLASS:PUBLIC
DTSTART:20260426T083000Z
DTEND:20260426T093000Z
DTSTAMP:20260422T100255Z
END:VEVENT

END:VCALENDAR