BEGIN:VCALENDAR
VERSION:2.0
PRODID:nkc_event TYPO3 Extension
METHOD:PUBLISH
BEGIN:VEVENT
UID:5cf13aa01862c2427d9abe48b4c87689
LOCATION:Gemeindehaus I
SUMMARY:Kinderchor ab 3. Schuljahr
DESCRIPTION:
CLASS:PUBLIC
DTSTART:20260521T143000Z
DTEND:20260521T153000Z
DTSTAMP:20260420T080711Z
END:VEVENT

END:VCALENDAR