BEGIN:VCALENDAR
VERSION:2.0
PRODID:nkc_event TYPO3 Extension
METHOD:PUBLISH
BEGIN:VEVENT
UID:99745bf015b66097266b856f75743f59
LOCATION:Bibelgesprächskreis
SUMMARY:Bibelgesprächskreis
DESCRIPTION:
CLASS:PUBLIC
DTSTART:20260520T173000Z
DTEND:20260520T183000Z
DTSTAMP:20260422T013940Z
END:VEVENT

END:VCALENDAR