BEGIN:VCALENDAR
VERSION:2.0
PRODID:nkc_event TYPO3 Extension
METHOD:PUBLISH
BEGIN:VEVENT
UID:83e0bed6d5353fbe6f4a0b3f9923adb7
LOCATION:Friedenskirche
SUMMARY:Familienkirche
DESCRIPTION:
CLASS:PUBLIC
DTSTART:20260607T080000Z
DTEND:20260607T090000Z
DTSTAMP:20260421T193500Z
END:VEVENT

END:VCALENDAR