BEGIN:VCALENDAR
VERSION:2.0
PRODID:nkc_event TYPO3 Extension
METHOD:PUBLISH
BEGIN:VEVENT
UID:b501e3889cb7ed893032335cdaec3b35
LOCATION:Ev.-Luth. Kirchengemeinde Marschlande
SUMMARY:Sitzung des Kirchengemeinderats
DESCRIPTION:
CLASS:PUBLIC
DTSTART:20260507T170000Z
DTEND:20260507T180000Z
DTSTAMP:20260424T120921Z
END:VEVENT

END:VCALENDAR