BEGIN:VCALENDAR
VERSION:2.0
PRODID:nkc_event TYPO3 Extension
METHOD:PUBLISH
BEGIN:VEVENT
UID:9d313549aaf3f98e3fd87669e81c8910
LOCATION:Jakobikirche Kiel
SUMMARY:Taizéandacht
DESCRIPTION:
CLASS:PUBLIC
DTSTART:20260506T170000Z
DTEND:20260506T180000Z
DTSTAMP:20260422T123402Z
END:VEVENT

END:VCALENDAR