BEGIN:VCALENDAR
VERSION:2.0
PRODID:nkc_event TYPO3 Extension
METHOD:PUBLISH
BEGIN:VEVENT
UID:0d3329ed8e3227f2f68715c66020e37a
LOCATION:St. Aegidien Kirche
SUMMARY:Trauerfeier für Pastor Thomas Baltrock
DESCRIPTION:
CLASS:PUBLIC
DTSTART:20260424T090000Z
DTEND:20260424T100000Z
DTSTAMP:20260424T034721Z
END:VEVENT

END:VCALENDAR