BEGIN:VCALENDAR
VERSION:2.0
PRODID:nkc_event TYPO3 Extension
METHOD:PUBLISH
BEGIN:VEVENT
UID:a9b6ecd373e08fea1775e59041e7b025
LOCATION:St.-Laurentius-Kirche Schönberg
SUMMARY:40. Schönberger Musiksommer - Voktett Hannover
DESCRIPTION:Bereits acht Sängerinnen und Sänger können einen Doppelchor bilden\, und so reiht sich das „Nocturne“ des Voktett Hannover ein in den besonderen Musiksommer-Schwerpunkt der Vokalmusik\, die einige Mal im Spielplan in die Achtstimmigkeit vorangetrieben wird. A cappella – also ganz ohne eine instrumentale Begleitung – wird dies ein besonders eindrucksvolles Klangerlebnis. Ein erstaunlich vielfältiges Programm erwartet uns":" Musik Alter Meister verwebt sich mit zeitgenössischen Kompositionen\, Chormusik der Romantik versetzt uns in einen Klangrausch. Das Thema „Nacht“ erscheint aus verschiedensten Sichtweisen. Und während das Konzert noch im Hellen beginnt\, endet es in der Dämmerung\; das Nachtgeschehen entfaltet sich\, und beim nach Hause gehen kann sich das Gehörte sogleich erweisen…
CLASS:PUBLIC
DTSTART:20260804T180000Z
DTEND:20260804T190000Z
DTSTAMP:20260419T144317Z
END:VEVENT

END:VCALENDAR