BEGIN:VCALENDAR
VERSION:2.0
PRODID:nkc_event TYPO3 Extension
METHOD:PUBLISH
BEGIN:VEVENT
UID:bdd25c605193afba59802d937935073e
LOCATION:Eingang des Eppendorfer Parks (in der Nähe der Bushaltestelle „Eppendorfer Park/UKE“)
SUMMARY:Eppendorfer Park-Spaziergänge
DESCRIPTION:Der Historiker Hakim Raffat (Geschichtswerkstatt Eppendorf) erzählt bei einem Spaziergang durch Kellinghusens Park mit Hilfe von Großdruckbildern über die Geschichte des Kellinghusens Park und seines Namensgebers\, dem Bürgermeister Dr. Heinrich Kellinghusen (1796-1879).Zweiter Treffpunkt im Eingangsbereich des Kellinghusens Park (Eingang von der Eppendorfer Landstraße).
CLASS:PUBLIC
DTSTART:20260721T163000Z
DTEND:20260721T173000Z
DTSTAMP:20260419T183810Z
END:VEVENT

END:VCALENDAR